Name | Last modified | Size | Description | |
---|---|---|---|---|
Parent Directory | - | |||
buildsrc-out.txt | 15-Jun-2024 03:37 | 846 | ||
buildsrc-summary.dcf | 15-Jun-2024 03:37 | 417 | ||
checksrc-out.txt | 15-Jun-2024 03:37 | 3.1K | ||
checksrc-summary.dcf | 15-Jun-2024 03:37 | 413 | ||
install-out.txt | 15-Jun-2024 03:37 | 952 | ||
install-summary.dcf | 15-Jun-2024 03:37 | 258 | ||