Name | Last modified | Size | Description | |
---|---|---|---|---|
Parent Directory | - | |||
install-summary.dcf | 15-Jun-2024 03:37 | 259 | ||
buildsrc-summary.dcf | 15-Jun-2024 03:37 | 333 | ||
checksrc-summary.dcf | 28-May-2024 00:35 | 414 | ||
install-out.txt | 15-Jun-2024 03:37 | 952 | ||
buildsrc-out.txt | 15-Jun-2024 03:37 | 1.4K | ||
checksrc-out.txt | 28-May-2024 00:35 | 4.1K | ||