Index of /checkResults/release/bioc-LATEST/MMAPPR2/raw-results/nebbiolo1
Name
Last modified
Size
Description
Parent Directory
-
buildsrc-out.txt
24-Jul-2024 22:03
3.4K
buildsrc-summary.dcf
24-Jul-2024 22:03
333
install-out.txt
24-Jul-2024 22:03
1.2K
install-summary.dcf
24-Jul-2024 22:03
259