Index of /checkResults/release/bioc-LATEST/MMAPPR2/raw-results/merida1
Name
Last modified
Size
Description
Parent Directory
-
buildsrc-out.txt
24-Jul-2024 22:06
3.2K
buildsrc-summary.dcf
24-Jul-2024 22:06
344
install-out.txt
24-Jul-2024 22:06
1.2K
install-summary.dcf
24-Jul-2024 22:06
269