Index of /checkResults/release/bioc-LATEST/MMAPPR2/raw-results/kjohnson3
Name
Last modified
Size
Description
Parent Directory
-
buildsrc-summary.dcf
12-Jun-2024 03:44
344
buildsrc-out.txt
12-Jun-2024 03:44
1.2K
install-summary.dcf
12-Jun-2024 03:44
269
install-out.txt
12-Jun-2024 03:44
1.2K