Index of /checkResults/release/bioc-LATEST/MMAPPR2/raw-results/kjohnson1
Name
Last modified
Size
Description
Parent Directory
-
buildsrc-out.txt
24-Jul-2024 22:07
3.9K
buildsrc-summary.dcf
24-Jul-2024 22:07
344
install-out.txt
24-Jul-2024 22:07
1.2K
install-summary.dcf
24-Jul-2024 22:07
269