Index of /checkResults/release/bioc-LATEST/MLInterfaces/raw-results

[ICO]NameLast modifiedSizeDescription

[DIR]Parent Directory  -  
[   ]info.dcf24-Sep-2023 00:36 288  
[DIR]merida1/24-Sep-2023 00:36 -  
[DIR]nebbiolo1/24-Sep-2023 00:35 -  
[DIR]palomino3/24-Sep-2023 00:35 -