Name | Last modified | Size | Description | |
---|---|---|---|---|
Parent Directory | - | |||
buildbin-out.txt | 29-Jun-2024 06:45 | 4.1K | ||
buildbin-summary.dcf | 29-Jun-2024 06:45 | 515 | ||
buildsrc-out.txt | 29-Jun-2024 06:45 | 900 | ||
buildsrc-summary.dcf | 29-Jun-2024 06:45 | 420 | ||
checksrc-out.txt | 29-Jun-2024 06:45 | 3.8K | ||
checksrc-summary.dcf | 29-Jun-2024 06:45 | 434 | ||
install-out.txt | 29-Jun-2024 06:45 | 2.1K | ||
install-summary.dcf | 29-Jun-2024 06:45 | 264 | ||