Index of /checkResults/release/bioc-LATEST/MIGSA/raw-results/nebbiolo2
Name
Last modified
Size
Description
Parent Directory
-
buildsrc-out.txt
21-Apr-2023 01:50
2.9K
buildsrc-summary.dcf
21-Apr-2023 01:50
329
install-out.txt
21-Apr-2023 01:50
1.8K
install-summary.dcf
21-Apr-2023 01:50
255