Index of /checkResults/release/bioc-LATEST/MGFR/raw-results

[ICO]NameLast modifiedSizeDescription

[DIR]Parent Directory  -  
[   ]info.dcf05-Feb-2023 01:05 266  
[DIR]kjohnson/12-Jul-2022 00:06 -  
[DIR]lconway/05-Feb-2023 01:05 -  
[DIR]nebbiolo2/05-Feb-2023 01:04 -  
[DIR]palomino4/05-Feb-2023 01:05 -