Name | Last modified | Size | Description | |
---|---|---|---|---|
Parent Directory | - | |||
buildbin-out.txt | 29-Jun-2024 06:41 | 1.1K | ||
buildbin-summary.dcf | 29-Jun-2024 06:41 | 509 | ||
buildsrc-out.txt | 29-Jun-2024 06:41 | 894 | ||
buildsrc-summary.dcf | 29-Jun-2024 06:41 | 448 | ||
checksrc-out.txt | 29-Jun-2024 06:41 | 6.9K | ||
checksrc-summary.dcf | 29-Jun-2024 06:41 | 443 | ||
install-out.txt | 29-Jun-2024 06:41 | 968 | ||
install-summary.dcf | 29-Jun-2024 06:41 | 266 | ||