Back to Multiple platform build/check report for BioC 3.18:   simplified   long
ABCDEFGHIJKL[M]NOPQRSTUVWXYZ

This page was generated on 2024-02-28 11:36:58 -0500 (Wed, 28 Feb 2024).

HostnameOSArch (*)R versionInstalled pkgs
nebbiolo2Linux (Ubuntu 22.04.3 LTS)x86_644.3.2 Patched (2023-11-13 r85521) -- "Eye Holes" 4692
palomino4Windows Server 2022 Datacenterx644.3.2 (2023-10-31 ucrt) -- "Eye Holes" 4445
lconwaymacOS 12.7.1 Montereyx86_644.3.2 Patched (2023-11-01 r85457) -- "Eye Holes" 4466
Click on any hostname to see more info about the system (e.g. compilers)      (*) as reported by 'uname -p', except on Windows and Mac OS X

Package 1182/2266HostnameOS / ArchINSTALLBUILDCHECKBUILD BIN
MEDIPS 1.54.0  (landing page)
Lukas Chavez
Snapshot Date: 2024-02-27 14:05:07 -0500 (Tue, 27 Feb 2024)
git_url: https://git.bioconductor.org/packages/MEDIPS
git_branch: RELEASE_3_18
git_last_commit: a174f2a
git_last_commit_date: 2023-10-24 09:45:13 -0500 (Tue, 24 Oct 2023)
nebbiolo2Linux (Ubuntu 22.04.3 LTS) / x86_64  OK    OK    OK  UNNEEDED, same version is already published
palomino4Windows Server 2022 Datacenter / x64  OK    OK    OK    OK  UNNEEDED, same version is already published
lconwaymacOS 12.7.1 Monterey / x86_64  OK    OK    OK    OK  UNNEEDED, same version is already published
kjohnson1macOS 13.6.1 Ventura / arm64see weekly results here

CHECK results for MEDIPS on palomino4


To the developers/maintainers of the MEDIPS package:
- Allow up to 24 hours (and sometimes 48 hours) for your latest push to git@git.bioconductor.org:packages/MEDIPS.git to reflect on this report. See Troubleshooting Build Report for more information.
- Use the following Renviron settings to reproduce errors and warnings.
- If 'R CMD check' started to fail recently on the Linux builder(s) over a missing dependency, add the missing dependency to 'Suggests:' in your DESCRIPTION file. See Renviron.bioc for more information.

raw results


Summary

Package: MEDIPS
Version: 1.54.0
Command: F:\biocbuild\bbs-3.18-bioc\R\bin\R.exe CMD check --no-multiarch --install=check:MEDIPS.install-out.txt --library=F:\biocbuild\bbs-3.18-bioc\R\library --no-vignettes --timings MEDIPS_1.54.0.tar.gz
StartedAt: 2024-02-28 03:26:56 -0500 (Wed, 28 Feb 2024)
EndedAt: 2024-02-28 03:32:48 -0500 (Wed, 28 Feb 2024)
EllapsedTime: 352.5 seconds
RetCode: 0
Status:   OK  
CheckDir: MEDIPS.Rcheck
Warnings: 0

Command output

##############################################################################
##############################################################################
###
### Running command:
###
###   F:\biocbuild\bbs-3.18-bioc\R\bin\R.exe CMD check --no-multiarch --install=check:MEDIPS.install-out.txt --library=F:\biocbuild\bbs-3.18-bioc\R\library --no-vignettes --timings MEDIPS_1.54.0.tar.gz
###
##############################################################################
##############################################################################


* using log directory 'F:/biocbuild/bbs-3.18-bioc/meat/MEDIPS.Rcheck'
* using R version 4.3.2 (2023-10-31 ucrt)
* using platform: x86_64-w64-mingw32 (64-bit)
* R was compiled by
    gcc.exe (GCC) 12.3.0
    GNU Fortran (GCC) 12.3.0
* running under: Windows Server 2022 x64 (build 20348)
* using session charset: UTF-8
* using option '--no-vignettes'
* checking for file 'MEDIPS/DESCRIPTION' ... OK
* checking extension type ... Package
* this is package 'MEDIPS' version '1.54.0'
* checking package namespace information ... OK
* checking package dependencies ... OK
* checking if this is a source package ... OK
* checking if there is a namespace ... OK
* checking for hidden files and directories ... OK
* checking for portable file names ... OK
* checking whether package 'MEDIPS' can be installed ... OK
* checking installed package size ... OK
* checking package directory ... OK
* checking 'build' directory ... OK
* checking DESCRIPTION meta-information ... OK
* checking top-level files ... OK
* checking for left-over files ... OK
* checking index information ... OK
* checking package subdirectories ... OK
* checking R files for non-ASCII characters ... OK
* checking R files for syntax errors ... OK
* checking whether the package can be loaded ... OK
* checking whether the package can be loaded with stated dependencies ... OK
* checking whether the package can be unloaded cleanly ... OK
* checking whether the namespace can be loaded with stated dependencies ... OK
* checking whether the namespace can be unloaded cleanly ... OK
* checking dependencies in R code ... OK
* checking S3 generic/method consistency ... OK
* checking replacement functions ... OK
* checking foreign function calls ... OK
* checking R code for possible problems ... NOTE
MEDIPS.CpGenrich: no visible global function definition for 'seqlevels'
MEDIPS.CpGenrich: no visible global function definition for
  'seqlengths'
MEDIPS.CpGenrich: no visible global function definition for
  'GRangesList'
MEDIPS.CpGenrich : <anonymous>: no visible global function definition
  for 'seqnames'
MEDIPS.CpGenrich: no visible global function definition for 'new'
MEDIPS.addCNV: no visible global function definition for 'seqnames'
MEDIPS.correlation: no visible global function definition for 'pdf'
MEDIPS.correlation: no visible global function definition for 'dev.off'
MEDIPS.couplingVector: no visible global function definition for 'new'
MEDIPS.createROIset: no visible global function definition for
  'seqnames'
MEDIPS.createROIset: no visible global function definition for
  'seqlengths'
MEDIPS.createROIset: no visible global function definition for 'new'
MEDIPS.createSet: no visible global function definition for 'seqnames'
MEDIPS.createSet: no visible global function definition for
  'seqlengths'
MEDIPS.createSet: no visible global function definition for 'seqlevels'
MEDIPS.createSet: no visible global function definition for 'new'
MEDIPS.diffMeth: no visible global function definition for 'p.adjust'
MEDIPS.exportWIG: no visible global function definition for 'seqnames'
MEDIPS.mergeSets: no visible global function definition for 'new'
MEDIPS.meth: no visible global function definition for 'seqnames'
MEDIPS.plotCalibrationPlot: no visible global function definition for
  'seqnames'
MEDIPS.plotCalibrationPlot: no visible global function definition for
  'points'
MEDIPS.plotSeqCoverage: no visible global function definition for 'pie'
MEDIPS.plotSeqCoverage: no visible global function definition for
  'hist'
MEDIPS.saturation: no visible global function definition for
  'seqlevels'
MEDIPS.saturation: no visible global function definition for
  'seqlengths'
MEDIPS.selectROIs: no visible global function definition for
  'elementMetadata<-'
MEDIPS.selectROIs: no visible global function definition for
  'elementMetadata'
MEDIPS.selectROIs: no visible global function definition for
  'findOverlaps'
MEDIPS.selectROIs: no visible global function definition for 'values'
MEDIPS.selectROIs: no visible global function definition for 'seqnames'
MEDIPS.seqCoverage: no visible global function definition for
  'seqlevels'
MEDIPS.seqCoverage: no visible global function definition for
  'seqlengths'
MEDIPS.setAnnotation: no visible global function definition for
  'findOverlaps'
MEDIPS.setAnnotation: no visible global function definition for
  'values'
getGRange: no visible global function definition for 'qpois'
getGRange: no visible global function definition for 'seqlengths'
getGRange: no visible global function definition for 'countMatches'
getGRange: no visible global function definition for 'strand<-'
getMObjectFromWIG: no visible global function definition for
  'seqlengths'
getMObjectFromWIG: no visible global function definition for 'values'
getMObjectFromWIG: no visible global function definition for
  'runLength'
getMObjectFromWIG: no visible global function definition for 'seqnames'
getMObjectFromWIG: no visible global function definition for 'runValue'
getMObjectFromWIG: no visible global function definition for 'new'
getPairedGRange: no visible global function definition for 'sd'
getPairedGRange: no visible global function definition for 'qpois'
getPairedGRange: no visible global function definition for 'seqlengths'
getPairedGRange: no visible global function definition for
  'countMatches'
getPairedGRange: no visible global function definition for 'strand<-'
matSd: no visible binding for global variable 'sd'
matTtest: no visible binding for global variable 'sd'
matTtest: no visible global function definition for 'pt'
Undefined global functions or variables:
  GRangesList countMatches dev.off elementMetadata elementMetadata<-
  findOverlaps hist new p.adjust pdf pie points pt qpois runLength
  runValue sd seqlengths seqlevels seqnames strand<- values
Consider adding
  importFrom("grDevices", "dev.off", "pdf")
  importFrom("graphics", "hist", "pie", "points")
  importFrom("methods", "new")
  importFrom("stats", "p.adjust", "pt", "qpois", "sd")
to your NAMESPACE file (and ensure that your DESCRIPTION Imports field
contains 'methods').
* checking Rd files ... OK
* checking Rd metadata ... OK
* checking Rd cross-references ... OK
* checking for missing documentation entries ... OK
* checking for code/documentation mismatches ... OK
* checking Rd \usage sections ... OK
* checking Rd contents ... OK
* checking for unstated dependencies in examples ... OK
* checking sizes of PDF files under 'inst/doc' ... OK
* checking files in 'vignettes' ... OK
* checking examples ... OK
Examples with CPU (user + system) or elapsed time > 5s
                        user system elapsed
MEDIPS.meth            40.81   0.75   41.57
MEDIPS.addCNV          21.83   0.30   22.68
MEDIPS.couplingVector   5.81   0.06    5.87
MEDIPS.plotSaturation   5.30   0.22    5.51
MEDIPS.saturation       5.20   0.19    5.39
MEDIPS.plotSeqCoverage  5.22   0.11    5.33
* checking for unstated dependencies in vignettes ... OK
* checking package vignettes in 'inst/doc' ... OK
* checking running R code from vignettes ... SKIPPED
* checking re-building of vignette outputs ... SKIPPED
* checking PDF version of manual ... OK
* DONE

Status: 1 NOTE
See
  'F:/biocbuild/bbs-3.18-bioc/meat/MEDIPS.Rcheck/00check.log'
for details.



Installation output

MEDIPS.Rcheck/00install.out

##############################################################################
##############################################################################
###
### Running command:
###
###   F:\biocbuild\bbs-3.18-bioc\R\bin\R.exe CMD INSTALL MEDIPS
###
##############################################################################
##############################################################################


* installing to library 'F:/biocbuild/bbs-3.18-bioc/R/library'
* installing *source* package 'MEDIPS' ...
** using staged installation
** R
** inst
** byte-compile and prepare package for lazy loading
No methods found in package 'IRanges' for request: 'values' when loading 'MEDIPS'
** help
*** installing help indices
** building package indices
** installing vignettes
** testing if installed package can be loaded from temporary location
No methods found in package 'IRanges' for request: 'values' when loading 'MEDIPS'
** testing if installed package can be loaded from final location
No methods found in package 'IRanges' for request: 'values' when loading 'MEDIPS'
** testing if installed package keeps a record of temporary installation path
* DONE (MEDIPS)

Tests output


Example timings

MEDIPS.Rcheck/MEDIPS-Ex.timings

nameusersystemelapsed
COUPLINGset-class0.010.000.01
MEDIPS.CpGenrich0.060.000.08
MEDIPS.addCNV21.83 0.3022.68
MEDIPS.correlation1.310.031.39
MEDIPS.couplingVector5.810.065.87
MEDIPS.createROIset1.260.001.26
MEDIPS.createSet1.240.031.27
MEDIPS.exportWIG2.330.082.41
MEDIPS.getAnnotation000
MEDIPS.mergeFrames000
MEDIPS.mergeSets1.000.021.03
MEDIPS.meth40.81 0.7541.57
MEDIPS.plotCalibrationPlot3.340.043.40
MEDIPS.plotSaturation5.300.225.51
MEDIPS.plotSeqCoverage5.220.115.33
MEDIPS.saturation5.200.195.39
MEDIPS.selectROIs1.140.111.25
MEDIPS.selectSig2.080.092.17
MEDIPS.seqCoverage4.610.104.70
MEDIPS.setAnnotation2.050.092.15
MEDIPSroiSet-class000
MEDIPSset-class000