Index of /checkResults/release/bioc-LATEST/MEAT/raw-results
Name
Last modified
Size
Description
Parent Directory
-
info.dcf
06-Aug-2022 03:20
272
merida1/
06-Aug-2022 03:20
-
nebbiolo1/
06-Aug-2022 03:19
-
palomino3/
04-Aug-2022 02:21
-
riesling1/
19-Mar-2022 00:07
-