Name | Last modified | Size | Description | |
---|---|---|---|---|
Parent Directory | - | |||
install-summary.dcf | 24-Jul-2024 22:06 | 263 | ||
install-out.txt | 24-Jul-2024 22:06 | 970 | ||
checksrc-summary.dcf | 24-Jul-2024 22:06 | 438 | ||
checksrc-out.txt | 24-Jul-2024 22:06 | 5.4K | ||
buildsrc-summary.dcf | 24-Jul-2024 22:06 | 419 | ||
buildsrc-out.txt | 24-Jul-2024 22:06 | 844 | ||
buildbin-summary.dcf | 24-Jul-2024 22:06 | 513 | ||
buildbin-out.txt | 24-Jul-2024 22:06 | 1.1K | ||