Name | Last modified | Size | Description | |
---|---|---|---|---|
Parent Directory | - | |||
install-summary.dcf | 12-Jun-2024 03:43 | 263 | ||
buildsrc-summary.dcf | 12-Jun-2024 03:43 | 419 | ||
checksrc-summary.dcf | 12-Jun-2024 03:43 | 438 | ||
buildbin-summary.dcf | 12-Jun-2024 03:43 | 512 | ||
buildsrc-out.txt | 12-Jun-2024 03:43 | 844 | ||
install-out.txt | 12-Jun-2024 03:43 | 969 | ||
buildbin-out.txt | 12-Jun-2024 03:43 | 1.1K | ||
checksrc-out.txt | 12-Jun-2024 03:43 | 5.4K | ||