Name | Last modified | Size | Description | |
---|---|---|---|---|
Parent Directory | - | |||
install-out.txt | 12-Jun-2024 03:43 | 1.2K | ||
install-summary.dcf | 12-Jun-2024 03:43 | 265 | ||
buildsrc-out.txt | 12-Jun-2024 03:43 | 808 | ||
buildsrc-summary.dcf | 12-Jun-2024 03:43 | 421 | ||
checksrc-summary.dcf | 12-Jun-2024 03:43 | 436 | ||
checksrc-out.txt | 12-Jun-2024 03:43 | 14K | ||
buildbin-out.txt | 12-Jun-2024 03:43 | 1.4K | ||
buildbin-summary.dcf | 12-Jun-2024 03:43 | 519 | ||