Name | Last modified | Size | Description | |
---|---|---|---|---|
Parent Directory | - | |||
buildbin-out.txt | 27-Jul-2024 06:42 | 1.2K | ||
buildbin-summary.dcf | 27-Jul-2024 06:42 | 524 | ||
buildsrc-out.txt | 27-Jul-2024 06:42 | 1.4K | ||
buildsrc-summary.dcf | 27-Jul-2024 06:42 | 423 | ||
checksrc-out.txt | 27-Jul-2024 06:42 | 3.6K | ||
checksrc-summary.dcf | 27-Jul-2024 06:42 | 440 | ||
install-out.txt | 27-Jul-2024 06:42 | 1.0K | ||
install-summary.dcf | 27-Jul-2024 06:42 | 267 | ||