Index of /checkResults/release/bioc-LATEST/MACSQuantifyR/raw-results
Name
Last modified
Size
Description
Parent Directory
-
merida1/
05-Mar-2024 01:39
-
kunpeng2/
10-May-2024 00:41
-
info.dcf
11-May-2024 00:35
298
nebbiolo1/
11-May-2024 00:36
-
palomino3/
11-May-2024 00:36
-
lconway/
11-May-2024 00:37
-