Name | Last modified | Size | Description | |
---|---|---|---|---|
Parent Directory | - | |||
buildbin-out.txt | 17-Jul-2024 06:42 | 1.1K | ||
buildbin-summary.dcf | 17-Jul-2024 06:42 | 523 | ||
buildsrc-out.txt | 17-Jul-2024 06:42 | 812 | ||
buildsrc-summary.dcf | 17-Jul-2024 06:42 | 425 | ||
checksrc-out.txt | 17-Jul-2024 06:42 | 3.9K | ||
checksrc-summary.dcf | 17-Jul-2024 06:42 | 440 | ||
install-out.txt | 17-Jul-2024 06:42 | 1.0K | ||
install-summary.dcf | 17-Jul-2024 06:42 | 267 | ||