Index of /checkResults/release/bioc-LATEST/LowMACA/raw-results/merida1
Name
Last modified
Size
Description
Parent Directory
-
buildsrc-out.txt
18-Apr-2024 00:37
1.9K
buildsrc-summary.dcf
18-Apr-2024 00:37
344
install-out.txt
18-Apr-2024 00:37
4.7K
install-summary.dcf
18-Apr-2024 00:37
270