Back to Multiple platform build/check report for BioC 3.12
ABCDEFGHIJK[L]MNOPQRSTUVWXYZ

Multiple platform build/check report for BioC 3.12

Results for Logolas

This page was generated on 2020-10-29 12:14:36 -0400 (Thu, 29 Oct 2020).

Package 969/1974HostnameOS / ArchINSTALLBUILDCHECKBUILD BIN
Logolas 1.14.0
Kushal Dey
Snapshot Date: 2020-10-28 14:42:40 -0400 (Wed, 28 Oct 2020)
URL: https://git.bioconductor.org/packages/Logolas
Branch: RELEASE_3_12
Last Commit: fbe735e
Last Changed Date: 2020-10-27 11:21:37 -0400 (Tue, 27 Oct 2020)
malbec1 Linux (Ubuntu 18.04.4 LTS) / x86_64  OK  OK  ERROR 
nebbiolo1 Linux (Ubuntu 20.04.1 LTS) / x86_64  OK  OK  ERROR 
tokay1 Windows Server 2012 R2 Standard / x64  OK  OK  ERROR  OK 
merida1 macOS 10.14.6 Mojave / x86_64  OK  OK  ERROR  OK