Back to Multiple platform build/check report for BioC 3.14
ABCDEFGHIJK[L]MNOPQRSTUVWXYZ

This page was generated on 2022-01-14 13:06:37 -0500 (Fri, 14 Jan 2022).

HostnameOSArch (*)R versionInstalled pkgs
nebbiolo2Linux (Ubuntu 20.04.4 LTS)x86_644.1.2 (2021-11-01) -- "Bird Hippie" 4327
tokay2Windows Server 2012 R2 Standardx644.1.2 (2021-11-01) -- "Bird Hippie" 4076
machv2macOS 10.14.6 Mojavex86_644.1.2 (2021-11-01) -- "Bird Hippie" 4137
Click on any hostname to see more info about the system (e.g. compilers)      (*) as reported by 'uname -p', except on Windows and Mac OS X

INSTALL results for LinkHD on tokay2


To the developers/maintainers of the LinkHD package:
- Please allow up to 24 hours (and sometimes 48 hours) for your latest push to git@git.bioconductor.org:packages/LinkHD.git to
reflect on this report. See How and When does the builder pull? When will my changes propagate? here for more information.
- Make sure to use the following settings in order to reproduce any error or warning you see on this page.

raw results

Package 1000/2083HostnameOS / ArchINSTALLBUILDCHECKBUILD BIN
LinkHD 1.8.0  (landing page)
"Laura M Zingaretti"
Snapshot Date: 2022-01-13 01:55:04 -0500 (Thu, 13 Jan 2022)
git_url: https://git.bioconductor.org/packages/LinkHD
git_branch: RELEASE_3_14
git_last_commit: 308b647
git_last_commit_date: 2021-10-26 12:55:21 -0500 (Tue, 26 Oct 2021)
nebbiolo2Linux (Ubuntu 20.04.4 LTS) / x86_64  OK    OK    OK  UNNEEDED, same version is already published
tokay2Windows Server 2012 R2 Standard / x64  OK    OK    OK    OK  UNNEEDED, same version is already published
machv2macOS 10.14.6 Mojave / x86_64  OK    OK    OK    OK  UNNEEDED, same version is already published

Summary

Package: LinkHD
Version: 1.8.0
Command: C:\cygwin\bin\curl.exe -O http://155.52.207.166/BBS/3.14/bioc/src/contrib/LinkHD_1.8.0.tar.gz && rm -rf LinkHD.buildbin-libdir && mkdir LinkHD.buildbin-libdir && C:\Users\biocbuild\bbs-3.14-bioc\R\bin\R.exe CMD INSTALL --merge-multiarch --build --library=LinkHD.buildbin-libdir LinkHD_1.8.0.tar.gz && C:\Users\biocbuild\bbs-3.14-bioc\R\bin\R.exe CMD INSTALL LinkHD_1.8.0.zip && rm LinkHD_1.8.0.tar.gz LinkHD_1.8.0.zip
StartedAt: 2022-01-13 07:28:05 -0500 (Thu, 13 Jan 2022)
EndedAt: 2022-01-13 07:29:16 -0500 (Thu, 13 Jan 2022)
EllapsedTime: 70.3 seconds
RetCode: 0
Status:   OK  

Command output

##############################################################################
##############################################################################
###
### Running command:
###
###   C:\cygwin\bin\curl.exe -O http://155.52.207.166/BBS/3.14/bioc/src/contrib/LinkHD_1.8.0.tar.gz && rm -rf LinkHD.buildbin-libdir && mkdir LinkHD.buildbin-libdir && C:\Users\biocbuild\bbs-3.14-bioc\R\bin\R.exe CMD INSTALL --merge-multiarch --build --library=LinkHD.buildbin-libdir LinkHD_1.8.0.tar.gz && C:\Users\biocbuild\bbs-3.14-bioc\R\bin\R.exe CMD INSTALL LinkHD_1.8.0.zip && rm LinkHD_1.8.0.tar.gz LinkHD_1.8.0.zip
###
##############################################################################
##############################################################################


  % Total    % Received % Xferd  Average Speed   Time    Time     Time  Current
                                 Dload  Upload   Total   Spent    Left  Speed

  0     0    0     0    0     0      0      0 --:--:-- --:--:-- --:--:--     0
 24  871k   24  216k    0     0  1066k      0 --:--:-- --:--:-- --:--:-- 1064k
100  871k  100  871k    0     0  2824k      0 --:--:-- --:--:-- --:--:-- 2821k

install for i386

* installing *source* package 'LinkHD' ...
** using staged installation
** R
** data
*** moving datasets to lazyload DB
** byte-compile and prepare package for lazy loading
** help
*** installing help indices
  converting help for package 'LinkHD'
    finding HTML links ... done
    Compromise_matrix-methods               html  
    DataProcessing                          html  
    DistStatis-Class                        html  
    DistStatis-CompromisePlot               html  
    DistStatis-CorrelationPlot              html  
    DistStatis-GlobalPlot                   html  
    Euclid_Im-methods                       html  
    Inertia_RV-methods                      html  
    Inertia_comp-methods                    html  
    LinkData-LinkData                       html  
    OTU2Taxa-OTU2Taxa                       html  
    RQO-methods                             html  
    Read_Data                               html  
    Ruminotypes                             html  
    Taraoceans                              html  
    Trajectories-methods                    html  
    VarSelection-Class                      html  
    VarSelection                            html  
    VarTable-methods                        html  
    Var_coordinates-methods                 html  
    Variables-methods                       html  
    compromise_coords-methods               html  
    correl-methods                          html  
    dAB-dAB                                 html  
    sign_values-methods                     html  
** building package indices
** installing vignettes
** testing if installed package can be loaded from temporary location
** testing if installed package can be loaded from final location
** testing if installed package keeps a record of temporary installation path

install for x64

* installing *source* package 'LinkHD' ...
** testing if installed package can be loaded
* MD5 sums
packaged installation of 'LinkHD' as LinkHD_1.8.0.zip
* DONE (LinkHD)
* installing to library 'C:/Users/biocbuild/bbs-3.14-bioc/R/library'
package 'LinkHD' successfully unpacked and MD5 sums checked