Back to Multiple platform build/check report for BioC 3.17:   simplified   long
ABCDEFGHIJK[L]MNOPQRSTUVWXYZ

This page was generated on 2023-10-03 11:37:30 -0400 (Tue, 03 Oct 2023).

HostnameOSArch (*)R versionInstalled pkgs
nebbiolo1Linux (Ubuntu 22.04.2 LTS)x86_644.3.1 (2023-06-16) -- "Beagle Scouts" 4626
palomino3Windows Server 2022 Datacenterx644.3.1 (2023-06-16 ucrt) -- "Beagle Scouts" 4379
merida1macOS 12.6.4 Montereyx86_644.3.1 (2023-06-16) -- "Beagle Scouts" 4395
Click on any hostname to see more info about the system (e.g. compilers)      (*) as reported by 'uname -p', except on Windows and Mac OS X

Package 1067/2230HostnameOS / ArchINSTALLBUILDCHECKBUILD BIN
LinkHD 1.14.0  (landing page)
"Laura M Zingaretti"
Snapshot Date: 2023-10-02 14:00:11 -0400 (Mon, 02 Oct 2023)
git_url: https://git.bioconductor.org/packages/LinkHD
git_branch: RELEASE_3_17
git_last_commit: 8fa9f88
git_last_commit_date: 2023-04-25 11:13:22 -0400 (Tue, 25 Apr 2023)
nebbiolo1Linux (Ubuntu 22.04.2 LTS) / x86_64  OK    OK    OK  UNNEEDED, same version is already published
palomino3Windows Server 2022 Datacenter / x64  OK    OK    OK    OK  UNNEEDED, same version is already published
merida1macOS 12.6.4 Monterey / x86_64  OK    OK    OK    OK  UNNEEDED, same version is already published

CHECK results for LinkHD on merida1


To the developers/maintainers of the LinkHD package:
- Allow up to 24 hours (and sometimes 48 hours) for your latest push to git@git.bioconductor.org:packages/LinkHD.git to reflect on this report. See Troubleshooting Build Report for more information.
- Use the following Renviron settings to reproduce errors and warnings.
- If 'R CMD check' started to fail recently on the Linux builder(s) over a missing dependency, add the missing dependency to 'Suggests:' in your DESCRIPTION file. See Renviron.bioc for more information.

raw results


Summary

Package: LinkHD
Version: 1.14.0
Command: /Library/Frameworks/R.framework/Resources/bin/R CMD check --install=check:LinkHD.install-out.txt --library=/Library/Frameworks/R.framework/Resources/library --no-vignettes --timings LinkHD_1.14.0.tar.gz
StartedAt: 2023-10-03 03:11:19 -0400 (Tue, 03 Oct 2023)
EndedAt: 2023-10-03 03:19:29 -0400 (Tue, 03 Oct 2023)
EllapsedTime: 489.6 seconds
RetCode: 0
Status:   OK  
CheckDir: LinkHD.Rcheck
Warnings: 0

Command output

##############################################################################
##############################################################################
###
### Running command:
###
###   /Library/Frameworks/R.framework/Resources/bin/R CMD check --install=check:LinkHD.install-out.txt --library=/Library/Frameworks/R.framework/Resources/library --no-vignettes --timings LinkHD_1.14.0.tar.gz
###
##############################################################################
##############################################################################


* using log directory ‘/Users/biocbuild/bbs-3.17-bioc/meat/LinkHD.Rcheck’
* using R version 4.3.1 (2023-06-16)
* using platform: x86_64-apple-darwin20 (64-bit)
* R was compiled by
    Apple clang version 14.0.3 (clang-1403.0.22.14.1)
    GNU Fortran (GCC) 12.2.0
* running under: macOS Monterey 12.6.4
* using session charset: UTF-8
* using option ‘--no-vignettes’
* checking for file ‘LinkHD/DESCRIPTION’ ... OK
* checking extension type ... Package
* this is package ‘LinkHD’ version ‘1.14.0’
* package encoding: UTF-8
* checking package namespace information ... OK
* checking package dependencies ... OK
* checking if this is a source package ... OK
* checking if there is a namespace ... OK
* checking for hidden files and directories ... OK
* checking for portable file names ... OK
* checking for sufficient/correct file permissions ... OK
* checking whether package ‘LinkHD’ can be installed ... OK
* checking installed package size ... OK
* checking package directory ... OK
* checking ‘build’ directory ... OK
* checking DESCRIPTION meta-information ... OK
* checking top-level files ... OK
* checking for left-over files ... OK
* checking index information ... OK
* checking package subdirectories ... OK
* checking R files for non-ASCII characters ... OK
* checking R files for syntax errors ... OK
* checking whether the package can be loaded ... OK
* checking whether the package can be loaded with stated dependencies ... OK
* checking whether the package can be unloaded cleanly ... OK
* checking whether the namespace can be loaded with stated dependencies ... OK
* checking whether the namespace can be unloaded cleanly ... OK
* checking dependencies in R code ... OK
* checking S3 generic/method consistency ... OK
* checking replacement functions ... OK
* checking foreign function calls ... OK
* checking R code for possible problems ... OK
* checking Rd files ... OK
* checking Rd metadata ... OK
* checking Rd cross-references ... OK
* checking for missing documentation entries ... OK
* checking for code/documentation mismatches ... OK
* checking Rd \usage sections ... OK
* checking Rd contents ... OK
* checking for unstated dependencies in examples ... OK
* checking contents of ‘data’ directory ... OK
* checking data for non-ASCII characters ... OK
* checking LazyData ... OK
* checking data for ASCII and uncompressed saves ... OK
* checking files in ‘vignettes’ ... OK
* checking examples ... OK
Examples with CPU (user + system) or elapsed time > 5s
                         user system elapsed
OTU2Taxa-OTU2Taxa       7.634  0.235  10.314
VarSelection            4.288  0.069   5.522
Var_coordinates-methods 4.300  0.045   5.519
VarTable-methods        4.291  0.037   5.514
sign_values-methods     4.269  0.030   5.453
Variables-methods       4.258  0.027   5.477
* checking for unstated dependencies in vignettes ... OK
* checking package vignettes in ‘inst/doc’ ... OK
* checking running R code from vignettes ... SKIPPED
* checking re-building of vignette outputs ... SKIPPED
* checking PDF version of manual ... OK
* DONE

Status: OK


Installation output

LinkHD.Rcheck/00install.out

##############################################################################
##############################################################################
###
### Running command:
###
###   /Library/Frameworks/R.framework/Resources/bin/R CMD INSTALL LinkHD
###
##############################################################################
##############################################################################


* installing to library ‘/Library/Frameworks/R.framework/Versions/4.3-x86_64/Resources/library’
* installing *source* package ‘LinkHD’ ...
** using staged installation
** R
** data
*** moving datasets to lazyload DB
** byte-compile and prepare package for lazy loading
** help
*** installing help indices
** building package indices
** installing vignettes
** testing if installed package can be loaded from temporary location
** testing if installed package can be loaded from final location
** testing if installed package keeps a record of temporary installation path
* DONE (LinkHD)

Tests output


Example timings

LinkHD.Rcheck/LinkHD-Ex.timings

nameusersystemelapsed
Compromise_matrix-methods2.2130.3653.308
DataProcessing0.0130.0040.020
DistStatis-Class0.0010.0010.005
DistStatis-CompromisePlot1.2530.0491.656
DistStatis-CorrelationPlot1.4600.0501.932
DistStatis-GlobalPlot1.7940.0712.360
Euclid_Im-methods0.8590.0281.124
Inertia_RV-methods0.8270.0241.078
Inertia_comp-methods0.8200.0241.061
LinkData-LinkData0.8260.0191.041
OTU2Taxa-OTU2Taxa 7.634 0.23510.314
RQO-methods0.8010.0151.031
Read_Data0.0000.0010.001
Ruminotypes0.0020.0020.005
Taraoceans0.0020.0030.004
Trajectories-methods1.5640.9553.215
VarSelection-Class0.0000.0010.002
VarSelection4.2880.0695.522
VarTable-methods4.2910.0375.514
Var_coordinates-methods4.3000.0455.519
Variables-methods4.2580.0275.477
compromise_coords-methods0.8450.0251.108
correl-methods0.8640.0221.137
dAB-dAB1.5620.0292.010
sign_values-methods4.2690.0305.453