Index of /checkResults/release/bioc-LATEST/LineagePulse/raw-results/palomino4

[ICO]NameLast modifiedSizeDescription

[DIR]Parent Directory  -  
[TXT]buildbin-out.txt31-Jan-2023 01:06 1.6K 
[   ]buildbin-summary.dcf31-Jan-2023 01:06 545  
[TXT]buildsrc-out.txt31-Jan-2023 01:06 864  
[   ]buildsrc-summary.dcf31-Jan-2023 01:06 472  
[TXT]checksrc-out.txt31-Jan-2023 01:06 7.6K 
[   ]checksrc-summary.dcf31-Jan-2023 01:06 473  
[TXT]install-out.txt31-Jan-2023 01:06 1.4K 
[   ]install-summary.dcf31-Jan-2023 01:06 278