Name | Last modified | Size | Description | |
---|---|---|---|---|
Parent Directory | - | |||
checksrc-out.txt | 09-Jul-2023 00:35 | 7.8K | ||
checksrc-summary.dcf | 09-Jul-2023 00:35 | 440 | ||
install-summary.dcf | 30-Mar-2024 00:36 | 271 | ||
install-out.txt | 30-Mar-2024 00:36 | 884 | ||
buildsrc-out.txt | 30-Mar-2024 00:36 | 1.1K | ||
buildsrc-summary.dcf | 30-Mar-2024 00:36 | 342 | ||