Index of /checkResults/release/bioc-LATEST/LineagePulse/raw-results/nebbiolo2

[ICO]NameLast modifiedSizeDescription

[DIR]Parent Directory  -  
[TXT]buildsrc-out.txt23-Feb-2024 01:36 1.1K 
[   ]buildsrc-summary.dcf23-Feb-2024 01:36 342  
[TXT]checksrc-out.txt09-Jul-2023 00:35 7.8K 
[   ]checksrc-summary.dcf09-Jul-2023 00:35 440  
[TXT]install-out.txt23-Feb-2024 01:36 884  
[   ]install-summary.dcf23-Feb-2024 01:36 271