Index of /checkResults/release/bioc-LATEST/LineagePulse/raw-results/lconway

[ICO]NameLast modifiedSizeDescription

[DIR]Parent Directory  -  
[TXT]buildbin-out.txt31-Jan-2023 01:08 1.6K 
[   ]buildbin-summary.dcf31-Jan-2023 01:08 560  
[TXT]buildsrc-out.txt31-Jan-2023 01:08 836  
[   ]buildsrc-summary.dcf31-Jan-2023 01:08 442  
[TXT]checksrc-out.txt31-Jan-2023 01:08 7.6K 
[   ]checksrc-summary.dcf31-Jan-2023 01:08 470  
[TXT]install-out.txt31-Jan-2023 01:08 1.4K 
[   ]install-summary.dcf31-Jan-2023 01:08 279