Index of /checkResults/release/bioc-LATEST/LineagePulse/raw-results/kjohnson

[ICO]NameLast modifiedSizeDescription

[DIR]Parent Directory  -  
[TXT]buildbin-out.txt08-Jul-2022 00:11 1.6K 
[   ]buildbin-summary.dcf08-Jul-2022 00:11 560  
[TXT]buildsrc-out.txt08-Jul-2022 00:11 836  
[   ]buildsrc-summary.dcf08-Jul-2022 00:11 442  
[TXT]install-out.txt12-Jul-2022 00:06 1.4K 
[   ]install-summary.dcf12-Jul-2022 00:06 279