Back to Multiple platform build/check report for BioC 3.18:   simplified   long
ABCDEFGHIJK[L]MNOPQRSTUVWXYZ

This page was generated on 2024-02-21 11:36:08 -0500 (Wed, 21 Feb 2024).

HostnameOSArch (*)R versionInstalled pkgs
nebbiolo2Linux (Ubuntu 22.04.3 LTS)x86_644.3.2 Patched (2023-11-13 r85521) -- "Eye Holes" 4691
palomino4Windows Server 2022 Datacenterx644.3.2 (2023-10-31 ucrt) -- "Eye Holes" 4444
lconwaymacOS 12.7.1 Montereyx86_644.3.2 Patched (2023-11-01 r85457) -- "Eye Holes" 4465
Click on any hostname to see more info about the system (e.g. compilers)      (*) as reported by 'uname -p', except on Windows and Mac OS X

Package 1096/2266HostnameOS / ArchINSTALLBUILDCHECKBUILD BIN
LineagePulse 1.22.0  (landing page)
David S Fischer
Snapshot Date: 2024-02-20 14:05:06 -0500 (Tue, 20 Feb 2024)
git_url: https://git.bioconductor.org/packages/LineagePulse
git_branch: RELEASE_3_18
git_last_commit: ca1332d
git_last_commit_date: 2023-10-24 11:01:44 -0500 (Tue, 24 Oct 2023)
nebbiolo2Linux (Ubuntu 22.04.3 LTS) / x86_64  ERROR    ERROR  skipped
palomino4Windows Server 2022 Datacenter / x64  ERROR    ERROR  skippedskipped
lconwaymacOS 12.7.1 Monterey / x86_64  ERROR    ERROR  skippedskipped
kjohnson1macOS 13.6.1 Ventura / arm64see weekly results here

BUILD results for LineagePulse on nebbiolo2


To the developers/maintainers of the LineagePulse package:
- Allow up to 24 hours (and sometimes 48 hours) for your latest push to git@git.bioconductor.org:packages/LineagePulse.git to reflect on this report. See Troubleshooting Build Report for more information.
- Use the following Renviron settings to reproduce errors and warnings.
- If 'R CMD check' started to fail recently on the Linux builder(s) over a missing dependency, add the missing dependency to 'Suggests:' in your DESCRIPTION file. See Renviron.bioc for more information.

raw results


Summary

Package: LineagePulse
Version: 1.22.0
Command: /home/biocbuild/bbs-3.18-bioc/R/bin/R CMD build --keep-empty-dirs --no-resave-data LineagePulse
StartedAt: 2024-02-20 17:45:07 -0500 (Tue, 20 Feb 2024)
EndedAt: 2024-02-20 17:45:09 -0500 (Tue, 20 Feb 2024)
EllapsedTime: 1.3 seconds
RetCode: 1
Status:   ERROR  
PackageFile: None
PackageFileSize: NA

Command output

##############################################################################
##############################################################################
###
### Running command:
###
###   /home/biocbuild/bbs-3.18-bioc/R/bin/R CMD build --keep-empty-dirs --no-resave-data LineagePulse
###
##############################################################################
##############################################################################


* checking for file ‘LineagePulse/DESCRIPTION’ ... OK
* preparing ‘LineagePulse’:
* checking DESCRIPTION meta-information ... OK
* installing the package to build vignettes
      -----------------------------------
* installing *source* package ‘LineagePulse’ ...
** using staged installation
** R
Error in .install_package_code_files(".", instdir) : 
files in '/tmp/RtmpQ4RZ37/Rbuild5598e17c10b36/LineagePulse/R' missing from 'Collate' field:
  zzz.R
ERROR: unable to collate and parse R files for package ‘LineagePulse’
* removing ‘/tmp/RtmpQ4RZ37/Rinst5598e2cfdccc8/LineagePulse’
      -----------------------------------
ERROR: package installation failed