Back to Multiple platform build/check report for BioC 3.14
ABCDEFGHIJK[L]MNOPQRSTUVWXYZ

This page was generated on 2021-11-29 15:05:27 -0500 (Mon, 29 Nov 2021).

BUILD BIN results for LRcell on tokay2

To the developers/maintainers of the LRcell package:
- Please allow up to 24 hours (and sometimes 48 hours) for your latest push to git@git.bioconductor.org:packages/LRcell.git to
reflect on this report. See How and When does the builder pull? When will my changes propagate? here for more information.
- Make sure to use the following settings in order to reproduce any error or warning you see on this page.

raw results

Package 1019/2083HostnameOS / ArchINSTALLBUILDCHECKBUILD BIN
LRcell 1.2.0  (landing page)
Wenjing Ma
Snapshot Date: 2021-11-28 04:15:06 -0500 (Sun, 28 Nov 2021)
git_url: https://git.bioconductor.org/packages/LRcell
git_branch: RELEASE_3_14
git_last_commit: 37fee9c
git_last_commit_date: 2021-10-26 13:08:23 -0500 (Tue, 26 Oct 2021)
nebbiolo2Linux (Ubuntu 20.04.3 LTS) / x86_64  OK    OK    OK  UNNEEDED, same version is already published
tokay2Windows Server 2012 R2 Standard / x64  OK    OK    OK    OK  UNNEEDED, same version is already published
machv2macOS 10.14.6 Mojave / x86_64  OK    OK    OK    OK  UNNEEDED, same version is already published

Summary

Package: LRcell
Version: 1.2.0
Command: rm -rf LRcell.buildbin-libdir && mkdir LRcell.buildbin-libdir && C:\Users\biocbuild\bbs-3.14-bioc\R\bin\R.exe CMD INSTALL --merge-multiarch --build --library=LRcell.buildbin-libdir LRcell_1.2.0.tar.gz
StartedAt: 2021-11-29 10:01:18 -0500 (Mon, 29 Nov 2021)
EndedAt: 2021-11-29 10:02:49 -0500 (Mon, 29 Nov 2021)
EllapsedTime: 91.9 seconds
RetCode: 0
Status:   OK  
PackageFile: LRcell_1.2.0.zip
PackageFileSize: 719.6 KiB

Command output

##############################################################################
##############################################################################
###
### Running command:
###
###   rm -rf LRcell.buildbin-libdir && mkdir LRcell.buildbin-libdir && C:\Users\biocbuild\bbs-3.14-bioc\R\bin\R.exe CMD INSTALL --merge-multiarch --build --library=LRcell.buildbin-libdir LRcell_1.2.0.tar.gz
###
##############################################################################
##############################################################################



install for i386

* installing *source* package 'LRcell' ...
** using staged installation
** R
** data
** inst
** byte-compile and prepare package for lazy loading
** help
*** installing help indices
  converting help for package 'LRcell'
    finding HTML links ... done
    LRcell                                  html  
    LRcellCore                              html  
    LRcell_gene_enriched_scores             html  
    enrich_posfrac_score                    html  
    example_LRcell_res                      html  
    example_gene_pvals                      html  
    get_markergenes                         html  
    mouse_FC_marker_genes                   html  
    mouse_celltypes                         html  
    plot_manhattan_enrich                   html  
    plot_marker_dist                        html  
** building package indices
** installing vignettes
** testing if installed package can be loaded from temporary location
** testing if installed package can be loaded from final location
** testing if installed package keeps a record of temporary installation path

install for x64

* installing *source* package 'LRcell' ...
** testing if installed package can be loaded
* MD5 sums
packaged installation of 'LRcell' as LRcell_1.2.0.zip
* DONE (LRcell)