Index of /checkResults/release/bioc-LATEST/LRcell/raw-results/palomino3

[ICO]NameLast modifiedSizeDescription

[DIR]Parent Directory  -  
[   ]install-summary.dcf16-Aug-2022 02:21 265  
[TXT]install-out.txt16-Aug-2022 02:21 959  
[   ]checksrc-summary.dcf16-Aug-2022 02:21 441  
[TXT]checksrc-out.txt16-Aug-2022 02:21 3.3K 
[   ]buildsrc-summary.dcf16-Aug-2022 02:21 446  
[TXT]buildsrc-out.txt16-Aug-2022 02:21 893  
[   ]buildbin-summary.dcf16-Aug-2022 02:21 506  
[TXT]buildbin-out.txt16-Aug-2022 02:21 1.1K