Index of /checkResults/release/bioc-LATEST/LRcell/raw-results/nebbiolo1

[ICO]NameLast modifiedSizeDescription

[DIR]Parent Directory  -  
[TXT]buildsrc-out.txt16-Aug-2022 02:20 864  
[   ]buildsrc-summary.dcf16-Aug-2022 02:20 412  
[TXT]checksrc-out.txt16-Aug-2022 02:20 3.3K 
[   ]checksrc-summary.dcf16-Aug-2022 02:20 418  
[TXT]install-out.txt16-Aug-2022 02:20 944  
[   ]install-summary.dcf16-Aug-2022 02:20 256