Index of /checkResults/release/bioc-LATEST/LRcell/raw-results/merida1

[ICO]NameLast modifiedSizeDescription

[DIR]Parent Directory  -  
[TXT]buildbin-out.txt25-Jun-2022 01:07 1.1K 
[   ]buildbin-summary.dcf25-Jun-2022 01:07 520  
[TXT]buildsrc-out.txt25-Jun-2022 01:07 874  
[   ]buildsrc-summary.dcf25-Jun-2022 01:07 422  
[TXT]checksrc-out.txt25-Jun-2022 01:07 3.3K 
[   ]checksrc-summary.dcf25-Jun-2022 01:07 438  
[TXT]install-out.txt25-Jun-2022 01:07 1.0K 
[   ]install-summary.dcf25-Jun-2022 01:07 266