Back to Multiple platform build/check report for BioC 3.16
ABCDEFGHIJK[L]MNOPQRSTUVWXYZ

This page was generated on 2022-11-30 11:05:54 -0500 (Wed, 30 Nov 2022).

HostnameOSArch (*)R versionInstalled pkgs
nebbiolo2Linux (Ubuntu 20.04.5 LTS)x86_644.2.2 (2022-10-31) -- "Innocent and Trusting" 4503
palomino4Windows Server 2022 Datacenterx644.2.2 (2022-10-31 ucrt) -- "Innocent and Trusting" 4278
lconwaymacOS 12.5.1 Montereyx86_644.2.2 (2022-10-31) -- "Innocent and Trusting" 4309
Click on any hostname to see more info about the system (e.g. compilers)      (*) as reported by 'uname -p', except on Windows and Mac OS X

BUILD results for LRcell on nebbiolo2


To the developers/maintainers of the LRcell package:
- Please allow up to 24 hours (and sometimes 48 hours) for your latest push to git@git.bioconductor.org:packages/LRcell.git to
reflect on this report. See How and When does the builder pull? When will my changes propagate? for more information.
- Make sure to use the following settings in order to reproduce any error or warning you see on this page.

raw results

Package 1064/2183HostnameOS / ArchINSTALLBUILDCHECKBUILD BIN
LRcell 1.6.0  (landing page)
Wenjing Ma
Snapshot Date: 2022-11-29 14:00:04 -0500 (Tue, 29 Nov 2022)
git_url: https://git.bioconductor.org/packages/LRcell
git_branch: RELEASE_3_16
git_last_commit: dd108d3
git_last_commit_date: 2022-11-01 11:24:31 -0500 (Tue, 01 Nov 2022)
nebbiolo2Linux (Ubuntu 20.04.5 LTS) / x86_64  OK    OK    OK  UNNEEDED, same version is already published
palomino4Windows Server 2022 Datacenter / x64  OK    OK    OK    OK  UNNEEDED, same version is already published
lconwaymacOS 12.5.1 Monterey / x86_64  OK    OK    OK    OK  UNNEEDED, same version is already published

Summary

Package: LRcell
Version: 1.6.0
Command: /home/biocbuild/bbs-3.16-bioc/R/bin/R CMD build --keep-empty-dirs --no-resave-data LRcell
StartedAt: 2022-11-29 17:01:53 -0500 (Tue, 29 Nov 2022)
EndedAt: 2022-11-29 17:02:51 -0500 (Tue, 29 Nov 2022)
EllapsedTime: 58.0 seconds
RetCode: 0
Status:   OK  
PackageFile: LRcell_1.6.0.tar.gz
PackageFileSize: 972.5 KiB

Command output

##############################################################################
##############################################################################
###
### Running command:
###
###   /home/biocbuild/bbs-3.16-bioc/R/bin/R CMD build --keep-empty-dirs --no-resave-data LRcell
###
##############################################################################
##############################################################################


* checking for file ‘LRcell/DESCRIPTION’ ... OK
* preparing ‘LRcell’:
* checking DESCRIPTION meta-information ... OK
* installing the package to build vignettes
* creating vignettes ... OK
* checking for LF line-endings in source and make files and shell scripts
* checking for empty or unneeded directories
* looking to see if a ‘data/datalist’ file should be added
* building ‘LRcell_1.6.0.tar.gz’