Back to Multiple platform build/check report for BioC 3.14
ABCDEFGHIJK[L]MNOPQRSTUVWXYZ

This page was generated on 2021-12-01 17:18:22 -0500 (Wed, 01 Dec 2021).

BUILD BIN results for LRcell on machv2

To the developers/maintainers of the LRcell package:
- Please allow up to 24 hours (and sometimes 48 hours) for your latest push to git@git.bioconductor.org:packages/LRcell.git to
reflect on this report. See How and When does the builder pull? When will my changes propagate? here for more information.
- Make sure to use the following settings in order to reproduce any error or warning you see on this page.

raw results

Package 1019/2083HostnameOS / ArchINSTALLBUILDCHECKBUILD BIN
LRcell 1.2.0  (landing page)
Wenjing Ma
Snapshot Date: 2021-11-30 04:15:05 -0500 (Tue, 30 Nov 2021)
git_url: https://git.bioconductor.org/packages/LRcell
git_branch: RELEASE_3_14
git_last_commit: 37fee9c
git_last_commit_date: 2021-10-26 13:08:23 -0500 (Tue, 26 Oct 2021)
nebbiolo2Linux (Ubuntu 20.04.3 LTS) / x86_64  OK    OK    OK  UNNEEDED, same version is already published
tokay2Windows Server 2012 R2 Standard / x64  OK    OK    OK    OK  UNNEEDED, same version is already published
machv2macOS 10.14.6 Mojave / x86_64  OK    OK    OK    OK  UNNEEDED, same version is already published

Summary

Package: LRcell
Version: 1.2.0
Command: rm -rf LRcell.buildbin-libdir && mkdir LRcell.buildbin-libdir && /Users/biocbuild/BBS/utils/build-universal.sh LRcell_1.2.0.tar.gz /Library/Frameworks/R.framework/Resources/bin/R LRcell.buildbin-libdir
StartedAt: 2021-12-01 00:39:45 -0500 (Wed, 01 Dec 2021)
EndedAt: 2021-12-01 00:40:52 -0500 (Wed, 01 Dec 2021)
EllapsedTime: 67.7 seconds
RetCode: 0
Status:   OK  
PackageFile: LRcell_1.2.0.tgz
PackageFileSize: 1002 KiB

Command output

##############################################################################
##############################################################################
###
### Running command:
###
###   rm -rf LRcell.buildbin-libdir && mkdir LRcell.buildbin-libdir && /Users/biocbuild/BBS/utils/build-universal.sh LRcell_1.2.0.tar.gz /Library/Frameworks/R.framework/Resources/bin/R LRcell.buildbin-libdir
###
##############################################################################
##############################################################################


>>>>>>> 
>>>>>>> INSTALLATION WITH 'R CMD INSTALL --preclean --no-multiarch --library=LRcell.buildbin-libdir LRcell_1.2.0.tar.gz'
>>>>>>> 

* installing *source* package ‘LRcell’ ...
** using staged installation
** R
** data
** inst
** byte-compile and prepare package for lazy loading
** help
*** installing help indices
** building package indices
** installing vignettes
** testing if installed package can be loaded from temporary location
** testing if installed package can be loaded from final location
** testing if installed package keeps a record of temporary installation path
* DONE (LRcell)