Back to Multiple platform build/check report for BioC 3.18:   simplified   long
ABCDEFGHIJ[K]LMNOPQRSTUVWXYZ

This page was generated on 2024-03-02 11:35:50 -0500 (Sat, 02 Mar 2024).

HostnameOSArch (*)R versionInstalled pkgs
nebbiolo2Linux (Ubuntu 22.04.3 LTS)x86_644.3.2 Patched (2023-11-13 r85521) -- "Eye Holes" 4692
palomino4Windows Server 2022 Datacenterx644.3.2 (2023-10-31 ucrt) -- "Eye Holes" 4445
lconwaymacOS 12.7.1 Montereyx86_644.3.2 Patched (2023-11-01 r85457) -- "Eye Holes" 4466
Click on any hostname to see more info about the system (e.g. compilers)      (*) as reported by 'uname -p', except on Windows and Mac OS X

Package 1077/2266HostnameOS / ArchINSTALLBUILDCHECKBUILD BIN
KEGGlincs 1.28.0  (landing page)
Shana White , Mario Medvedovic
Snapshot Date: 2024-03-01 14:05:09 -0500 (Fri, 01 Mar 2024)
git_url: https://git.bioconductor.org/packages/KEGGlincs
git_branch: RELEASE_3_18
git_last_commit: ec74033
git_last_commit_date: 2023-10-24 10:53:15 -0500 (Tue, 24 Oct 2023)
nebbiolo2Linux (Ubuntu 22.04.3 LTS) / x86_64  OK    OK    OK  UNNEEDED, same version is already published
palomino4Windows Server 2022 Datacenter / x64  OK    OK    OK    OK  UNNEEDED, same version is already published
lconwaymacOS 12.7.1 Monterey / x86_64  OK    OK    OK    OK  UNNEEDED, same version is already published
kjohnson1macOS 13.6.1 Ventura / arm64see weekly results here

BUILD results for KEGGlincs on nebbiolo2


To the developers/maintainers of the KEGGlincs package:
- Allow up to 24 hours (and sometimes 48 hours) for your latest push to git@git.bioconductor.org:packages/KEGGlincs.git to reflect on this report. See Troubleshooting Build Report for more information.
- Use the following Renviron settings to reproduce errors and warnings.
- If 'R CMD check' started to fail recently on the Linux builder(s) over a missing dependency, add the missing dependency to 'Suggests:' in your DESCRIPTION file. See Renviron.bioc for more information.

raw results


Summary

Package: KEGGlincs
Version: 1.28.0
Command: /home/biocbuild/bbs-3.18-bioc/R/bin/R CMD build --keep-empty-dirs --no-resave-data KEGGlincs
StartedAt: 2024-03-01 17:35:23 -0500 (Fri, 01 Mar 2024)
EndedAt: 2024-03-01 17:36:14 -0500 (Fri, 01 Mar 2024)
EllapsedTime: 51.1 seconds
RetCode: 0
Status:   OK  
PackageFile: KEGGlincs_1.28.0.tar.gz
PackageFileSize: 4.215 MiB

Command output

##############################################################################
##############################################################################
###
### Running command:
###
###   /home/biocbuild/bbs-3.18-bioc/R/bin/R CMD build --keep-empty-dirs --no-resave-data KEGGlincs
###
##############################################################################
##############################################################################


* checking for file ‘KEGGlincs/DESCRIPTION’ ... OK
* preparing ‘KEGGlincs’:
* checking DESCRIPTION meta-information ... OK
* installing the package to build vignettes
* creating vignettes ... OK
* checking for LF line-endings in source and make files and shell scripts
* checking for empty or unneeded directories
Omitted ‘LazyData’ from DESCRIPTION
* building ‘KEGGlincs_1.28.0.tar.gz’