Name | Last modified | Size | Description | |
---|---|---|---|---|
Parent Directory | - | |||
install-summary.dcf | 05-Mar-2024 01:39 | 297 | ||
install-out.txt | 05-Mar-2024 01:39 | 1.8K | ||
checksrc-summary.dcf | 05-Mar-2024 01:39 | 499 | ||
checksrc-out.txt | 05-Mar-2024 01:39 | 15K | ||
buildsrc-summary.dcf | 05-Mar-2024 01:39 | 468 | ||
buildsrc-out.txt | 05-Mar-2024 01:39 | 964 | ||
buildbin-summary.dcf | 05-Mar-2024 01:39 | 612 | ||
buildbin-out.txt | 05-Mar-2024 01:39 | 4.0K | ||