![]() | Name | Last modified | Size | Description |
---|---|---|---|---|
![]() | Parent Directory | - | ||
![]() | buildbin-out.txt | 28-Sep-2023 00:36 | 1.5K | |
![]() | buildbin-summary.dcf | 28-Sep-2023 00:36 | 568 | |
![]() | buildsrc-out.txt | 28-Sep-2023 00:36 | 884 | |
![]() | buildsrc-summary.dcf | 28-Sep-2023 00:36 | 488 | |
![]() | checksrc-out.txt | 28-Sep-2023 00:36 | 4.6K | |
![]() | checksrc-summary.dcf | 28-Sep-2023 00:36 | 488 | |
![]() | install-out.txt | 28-Sep-2023 00:36 | 1.3K | |
![]() | install-summary.dcf | 28-Sep-2023 00:36 | 286 | |