Index of /checkResults/release/bioc-LATEST/IntramiRExploreR/raw-results/nebbiolo1

[ICO]NameLast modifiedSizeDescription

[DIR]Parent Directory  -  
[TXT]buildsrc-out.txt23-Sep-2023 00:35 842  
[   ]buildsrc-summary.dcf23-Sep-2023 00:35 444  
[TXT]checksrc-out.txt23-Sep-2023 00:35 4.6K 
[   ]checksrc-summary.dcf23-Sep-2023 00:35 455  
[TXT]install-out.txt23-Sep-2023 00:35 1.3K 
[   ]install-summary.dcf23-Sep-2023 00:35 277