Name | Last modified | Size | Description | |
---|---|---|---|---|
Parent Directory | - | |||
install-summary.dcf | 05-Mar-2024 01:39 | 287 | ||
install-out.txt | 05-Mar-2024 01:39 | 1.3K | ||
checksrc-summary.dcf | 05-Mar-2024 01:39 | 486 | ||
checksrc-out.txt | 05-Mar-2024 01:39 | 4.6K | ||
buildsrc-summary.dcf | 05-Mar-2024 01:39 | 454 | ||
buildsrc-out.txt | 05-Mar-2024 01:39 | 852 | ||
buildbin-summary.dcf | 05-Mar-2024 01:39 | 584 | ||
buildbin-out.txt | 05-Mar-2024 01:39 | 1.6K | ||