![]() | Name | Last modified | Size | Description |
---|---|---|---|---|
![]() | Parent Directory | - | ||
![]() | buildbin-out.txt | 03-Oct-2023 00:37 | 1.6K | |
![]() | buildbin-summary.dcf | 03-Oct-2023 00:37 | 584 | |
![]() | buildsrc-out.txt | 03-Oct-2023 00:37 | 852 | |
![]() | buildsrc-summary.dcf | 03-Oct-2023 00:37 | 454 | |
![]() | checksrc-out.txt | 03-Oct-2023 00:37 | 4.6K | |
![]() | checksrc-summary.dcf | 03-Oct-2023 00:37 | 486 | |
![]() | install-out.txt | 03-Oct-2023 00:37 | 1.3K | |
![]() | install-summary.dcf | 03-Oct-2023 00:37 | 287 | |