Name | Last modified | Size | Description | |
---|---|---|---|---|
Parent Directory | - | |||
buildbin-out.txt | 12-Jun-2024 03:43 | 1.3K | ||
buildbin-summary.dcf | 12-Jun-2024 03:43 | 638 | ||
buildsrc-out.txt | 12-Jun-2024 03:43 | 951 | ||
buildsrc-summary.dcf | 12-Jun-2024 03:43 | 481 | ||
checksrc-out.txt | 12-Jun-2024 03:43 | 3.7K | ||
checksrc-summary.dcf | 12-Jun-2024 03:43 | 516 | ||
install-out.txt | 12-Jun-2024 03:43 | 1.0K | ||
install-summary.dcf | 12-Jun-2024 03:43 | 305 | ||