![]() | Name | Last modified | Size | Description |
---|---|---|---|---|
![]() | Parent Directory | - | ||
![]() | buildbin-out.txt | 24-Sep-2023 00:36 | 3.7K | |
![]() | buildbin-summary.dcf | 24-Sep-2023 00:36 | 548 | |
![]() | buildsrc-out.txt | 24-Sep-2023 00:36 | 2.7K | |
![]() | buildsrc-summary.dcf | 24-Sep-2023 00:36 | 437 | |
![]() | checksrc-out.txt | 24-Sep-2023 00:36 | 12K | |
![]() | checksrc-summary.dcf | 24-Sep-2023 00:36 | 462 | |
![]() | install-out.txt | 24-Sep-2023 00:36 | 3.5K | |
![]() | install-summary.dcf | 24-Sep-2023 00:36 | 275 | |