Name | Last modified | Size | Description | |
---|---|---|---|---|
Parent Directory | - | |||
install-summary.dcf | 05-Mar-2024 01:39 | 274 | ||
buildsrc-summary.dcf | 05-Mar-2024 01:39 | 345 | ||
checksrc-summary.dcf | 18-Jan-2024 02:23 | 448 | ||
buildbin-summary.dcf | 18-Jan-2024 02:23 | 536 | ||
buildbin-out.txt | 18-Jan-2024 02:23 | 1.2K | ||
install-out.txt | 05-Mar-2024 01:39 | 1.6K | ||
buildsrc-out.txt | 05-Mar-2024 01:39 | 1.8K | ||
checksrc-out.txt | 18-Jan-2024 02:23 | 3.8K | ||