![]() | Name | Last modified | Size | Description |
---|---|---|---|---|
![]() | Parent Directory | - | ||
![]() | buildsrc-out.txt | 29-Sep-2023 00:35 | 1.3K | |
![]() | buildsrc-summary.dcf | 29-Sep-2023 00:35 | 417 | |
![]() | checksrc-out.txt | 29-Sep-2023 00:35 | 12K | |
![]() | checksrc-summary.dcf | 29-Sep-2023 00:35 | 420 | |
![]() | install-out.txt | 29-Sep-2023 00:35 | 960 | |
![]() | install-summary.dcf | 29-Sep-2023 00:35 | 259 | |