Index of /checkResults/release/bioc-LATEST/IdeoViz/raw-results/merida1
Name
Last modified
Size
Description
Parent Directory
-
buildsrc-out.txt
28-Mar-2024 00:37
2.6K
buildsrc-summary.dcf
28-Mar-2024 00:37
343
install-out.txt
28-Mar-2024 00:37
1.0K
install-summary.dcf
28-Mar-2024 00:37
269