Name | Last modified | Size | Description | |
---|---|---|---|---|
Parent Directory | - | |||
buildbin-out.txt | 24-Oct-2023 00:39 | 1.2K | ||
buildbin-summary.dcf | 24-Oct-2023 00:39 | 529 | ||
buildsrc-out.txt | 05-Mar-2024 01:37 | 2.6K | ||
buildsrc-summary.dcf | 05-Mar-2024 01:37 | 343 | ||
checksrc-out.txt | 24-Oct-2023 00:39 | 10K | ||
checksrc-summary.dcf | 24-Oct-2023 00:39 | 448 | ||
install-out.txt | 05-Mar-2024 01:37 | 1.0K | ||
install-summary.dcf | 05-Mar-2024 01:37 | 269 | ||