Index of /checkResults/release/bioc-LATEST/IdeoViz/raw-results/kunpeng2

[ICO]NameLast modifiedSizeDescription

[DIR]Parent Directory  -  
[TXT]buildsrc-out.txt03-Nov-2023 00:40 2.6K 
[   ]buildsrc-summary.dcf03-Nov-2023 00:40 327  
[TXT]checksrc-out.txt24-Oct-2023 00:40 13K 
[   ]checksrc-summary.dcf24-Oct-2023 00:40 406  
[TXT]install-out.txt03-Nov-2023 00:40 948  
[   ]install-summary.dcf03-Nov-2023 00:40 253