Name | Last modified | Size | Description | |
---|---|---|---|---|
Parent Directory | - | |||
install-out.txt | 17-Jul-2024 06:38 | 1.0K | ||
install-summary.dcf | 17-Jul-2024 06:38 | 253 | ||
buildsrc-summary.dcf | 17-Jul-2024 06:38 | 408 | ||
buildsrc-out.txt | 17-Jul-2024 06:38 | 857 | ||
checksrc-out.txt | 17-Jul-2024 06:38 | 3.8K | ||
checksrc-summary.dcf | 17-Jul-2024 06:38 | 408 | ||