Back to Multiple platform build/check report for BioC 3.13
ABCDEFGH[I]JKLMNOPQRSTUVWXYZ

This page was generated on 2021-10-13 15:05:56 -0400 (Wed, 13 Oct 2021).

BUILD results for ITALICS on machv2

To the developers/maintainers of the ITALICS package:
- Please allow up to 24 hours (and sometimes 48 hours) for your latest push to git@git.bioconductor.org:packages/ITALICS.git to
reflect on this report. See How and When does the builder pull? When will my changes propagate? here for more information.
- Make sure to use the following settings in order to reproduce any error or warning you see on this page.

raw results

Package 955/2041HostnameOS / ArchINSTALLBUILDCHECKBUILD BIN
ITALICS 2.52.0  (landing page)
Guillem Rigaill
Snapshot Date: 2021-10-12 04:50:13 -0400 (Tue, 12 Oct 2021)
git_url: https://git.bioconductor.org/packages/ITALICS
git_branch: RELEASE_3_13
git_last_commit: bb3b357
git_last_commit_date: 2021-05-19 11:41:23 -0400 (Wed, 19 May 2021)
nebbiolo1Linux (Ubuntu 20.04.2 LTS) / x86_64  OK    OK    OK  UNNEEDED, same version is already published
tokay2Windows Server 2012 R2 Standard / x64  OK    OK    OK    OK  UNNEEDED, same version is already published
machv2macOS 10.14.6 Mojave / x86_64  OK    OK    OK    OK  UNNEEDED, same version is already published

Summary

Package: ITALICS
Version: 2.52.0
Command: /Library/Frameworks/R.framework/Versions/Current/Resources/bin/R CMD build --keep-empty-dirs --no-resave-data ITALICS
StartedAt: 2021-10-12 12:48:58 -0400 (Tue, 12 Oct 2021)
EndedAt: 2021-10-12 12:49:59 -0400 (Tue, 12 Oct 2021)
EllapsedTime: 61.7 seconds
RetCode: 0
Status:   OK  
PackageFile: ITALICS_2.52.0.tar.gz
PackageFileSize: 482.4 KiB

Command output

##############################################################################
##############################################################################
###
### Running command:
###
###   /Library/Frameworks/R.framework/Versions/Current/Resources/bin/R CMD build --keep-empty-dirs --no-resave-data ITALICS
###
##############################################################################
##############################################################################


* checking for file ‘ITALICS/DESCRIPTION’ ... OK
* preparing ‘ITALICS’:
* checking DESCRIPTION meta-information ... OK
* installing the package to build vignettes
* creating vignettes ... OK
* checking for LF line-endings in source and make files and shell scripts
* checking for empty or unneeded directories
* building ‘ITALICS_2.52.0.tar.gz’